BEGIN:VCALENDAR
VERSION:2.0
PRODID:-//Arnold Strongman Australia - ECPv4.9.13//NONSGML v1.0//EN
CALSCALE:GREGORIAN
METHOD:PUBLISH
X-WR-CALNAME:Arnold Strongman Australia
X-ORIGINAL-URL:https://arnoldstrongman.com.au
X-WR-CALDESC:Events for Arnold Strongman Australia
BEGIN:VTIMEZONE
TZID:UTC
BEGIN:STANDARD
TZOFFSETFROM:+0000
TZOFFSETTO:+0000
TZNAME:UTC
DTSTART:20190101T000000
END:STANDARD
END:VTIMEZONE
BEGIN:VEVENT
DTSTART;VALUE=DATE:20191215
DTEND;VALUE=DATE:20191216
DTSTAMP:20200301T195909
CREATED:20190711T050753Z
LAST-MODIFIED:20190711T050753Z
UID:3459-1576368000-1576454399@arnoldstrongman.com.au
SUMMARY:Beasts of Burden (QLD)
DESCRIPTION:
URL:https://arnoldstrongman.com.au/event/beasts-of-burden-qld/
CATEGORIES:Amateur Events,Qualifier
ATTACH;FMTTYPE=image/jpeg:https://arnoldstrongman.com.au/wp-content/uploads/2019/06/43569368_2262976390592557_160425317792481280_o.jpg
END:VEVENT
END:VCALENDAR