BEGIN:VCALENDAR
VERSION:2.0
PRODID:-//Arnold Strongman Australia - ECPv4.9.13//NONSGML v1.0//EN
CALSCALE:GREGORIAN
METHOD:PUBLISH
X-WR-CALNAME:Arnold Strongman Australia
X-ORIGINAL-URL:https://arnoldstrongman.com.au
X-WR-CALDESC:Events for Arnold Strongman Australia
BEGIN:VTIMEZONE
TZID:UTC
BEGIN:STANDARD
TZOFFSETFROM:+0000
TZOFFSETTO:+0000
TZNAME:UTC
DTSTART:20190101T000000
END:STANDARD
END:VTIMEZONE
BEGIN:VEVENT
DTSTART;VALUE=DATE:20191201
DTEND;VALUE=DATE:20191202
DTSTAMP:20200301T195812
CREATED:20190711T050645Z
LAST-MODIFIED:20190711T050805Z
UID:3456-1575158400-1575244799@arnoldstrongman.com.au
SUMMARY:Battle of The Gods (NSW)
DESCRIPTION:
URL:https://arnoldstrongman.com.au/event/battle-of-the-gods-nsw/
CATEGORIES:Amateur Events,Qualifier
ATTACH;FMTTYPE=image/jpeg:https://arnoldstrongman.com.au/wp-content/uploads/2019/07/43604058_2262979190592277_6246030557566730240_o.jpg
END:VEVENT
END:VCALENDAR